BEGIN:VCALENDAR
VERSION:2.0
PRODID:-//Contratero//ES
CALSCALE:GREGORIAN
METHOD:PUBLISH
BEGIN:VEVENT
UID:7/2024 Torre de Miguel Sesmero@contratero.es
DTSTAMP:20260424T070246Z
DTSTART:20240510T235959
DTEND:20240511T005959
SUMMARY:Cierre: Implantación y mantenimiento de programas informát
DESCRIPTION:Implantación y mantenimiento de programas informáticos de gestión de cementerio\\n\\nOrganismo: Alcaldía del Ayuntamiento de Torre de Miguel Sesmero\\n\\nVer en Contratero: https://contratero.es/contracts/7/2024 Torre de Miguel Sesmero
URL:https://contratero.es/contracts/7/2024 Torre de Miguel Sesmero
STATUS:CONFIRMED
BEGIN:VALARM
TRIGGER:-P1D
ACTION:DISPLAY
DESCRIPTION:Recordatorio: Implantación y mantenimiento d
END:VALARM
END:VEVENT
END:VCALENDAR